BEGIN:VCALENDAR
VERSION:2.0
PRODID:-//Pathways to Adult Success - ECPv6.15.17.1//NONSGML v1.0//EN
CALSCALE:GREGORIAN
METHOD:PUBLISH
X-ORIGINAL-URL:https://www.pathwaystoadultsuccess.org
X-WR-CALDESC:Events for Pathways to Adult Success
REFRESH-INTERVAL;VALUE=DURATION:PT1H
X-Robots-Tag:noindex
X-PUBLISHED-TTL:PT1H
BEGIN:VTIMEZONE
TZID:America/New_York
BEGIN:DAYLIGHT
TZOFFSETFROM:-0500
TZOFFSETTO:-0400
TZNAME:EDT
DTSTART:20180311T070000
END:DAYLIGHT
BEGIN:STANDARD
TZOFFSETFROM:-0400
TZOFFSETTO:-0500
TZNAME:EST
DTSTART:20181104T060000
END:STANDARD
BEGIN:DAYLIGHT
TZOFFSETFROM:-0500
TZOFFSETTO:-0400
TZNAME:EDT
DTSTART:20190310T070000
END:DAYLIGHT
BEGIN:STANDARD
TZOFFSETFROM:-0400
TZOFFSETTO:-0500
TZNAME:EST
DTSTART:20191103T060000
END:STANDARD
BEGIN:DAYLIGHT
TZOFFSETFROM:-0500
TZOFFSETTO:-0400
TZNAME:EDT
DTSTART:20200308T070000
END:DAYLIGHT
BEGIN:STANDARD
TZOFFSETFROM:-0400
TZOFFSETTO:-0500
TZNAME:EST
DTSTART:20201101T060000
END:STANDARD
END:VTIMEZONE
BEGIN:VEVENT
DTSTART;TZID=America/New_York:20190205T133000
DTEND;TZID=America/New_York:20190205T150000
DTSTAMP:20260419T132410
CREATED:20181218T215223Z
LAST-MODIFIED:20181218T215223Z
UID:1115-1549373400-1549378800@www.pathwaystoadultsuccess.org
SUMMARY:Collaborations Workgroup Virtual Work Session
DESCRIPTION:
URL:https://www.pathwaystoadultsuccess.org/event/collaborations-workgroup-virtual-work-session/
CATEGORIES:Collaborations
ORGANIZER;CN="Everyone Graduates Center":MAILTO:cpryseski@jhu.edu
END:VEVENT
END:VCALENDAR